BEGIN:VCALENDAR
VERSION:2.0
PRODID:-//ChamberMaster//Event Calendar 2.0//EN
METHOD:PUBLISH
X-PUBLISHED-TTL:P3D
REFRESH-INTERVAL:P3D
CALSCALE:GREGORIAN
BEGIN:VEVENT
DTSTART:20241107T200000Z
DTEND:20241107T210000Z
X-MICROSOFT-CDO-ALLDAYEVENT:FALSE
SUMMARY:West Tennessee Healthcare/Henry County Hospital Ribbon Cutting
DESCRIPTION:
X-ALT-DESC;FMTTYPE=text/html:
LOCATION:301 Tyson Ave\, Paris\, TN
UID:e.3304.28
SEQUENCE:3
DTSTAMP:20260425T121806Z
URL:https://business.paristnchamber.com/events/details/west-tennessee-healthcare-henry-county-hospital-ribbon-cutting-28
END:VEVENT

END:VCALENDAR
