BEGIN:VCALENDAR
VERSION:2.0
PRODID:-//ChamberMaster//Event Calendar 2.0//EN
METHOD:PUBLISH
X-PUBLISHED-TTL:P3D
REFRESH-INTERVAL:P3D
CALSCALE:GREGORIAN
BEGIN:VEVENT
DTSTART:20241120T180000Z
DTEND:20241120T190000Z
X-MICROSOFT-CDO-ALLDAYEVENT:FALSE
SUMMARY:TCAT Groundbreaking Ceremony 12 PM
DESCRIPTION:Please RSVP at TBR.EDU/RSVP/TCATS
X-ALT-DESC;FMTTYPE=text/html:<strong><span style="font-size:14px\;">Please RSVP at&nbsp\;<span class="html-span xdj266r x11i5rnm xat24cr x1mh8g0r xexx8yu x4uap5 x18d9i69 xkhd6sd x1hl2dhg x16tdsg8 x1vvkbs" style="margin: 0px\; overflow-wrap: break-word\; padding: 0px\; font-family: system-ui\, -apple-system\, &quot\;system-ui&quot\;\, &quot\;.SFNSText-Regular&quot\;\, sans-serif\; color: rgb(8\, 8\, 9)\;"><a attributionsrc="/privacy_sandbox/comet/register/source/?xt=AZWsCT5k6Q9sX2tPePH08lyhhV5nPXWvOF-XkZWOTD9JRDN2FMiyfxLYsoMUucNKzB7oPj4pnhR9H1jWyV6e5d7-oVg5bJg-dEU839qaewBkq6o-6iGkHHDd665HmToUM6fEVPi-W84PZFLs1lAfOYXXbsr9-Y2YOM7yRYyq7tVz1wF1aMx5E3e1Sdr-0XHPcHMLLuYfsIN37Sgkpc0-WXyZUOpj1isMWQSNsj-YULGrfpRSccgVnyvuNuFRd08xdnw_uFWfST1UoS-tseRqbKaOQSXJVDwhWouPeIJEG2WtU3ntYDjx8Jx8ld5nfmVFeOJpapL5tcLJEIKvanOO5iiJlHEY41vowl9B66C8WiBEp8p09_ZvnZkjGHwO8TqBp5hSn32LvyLuLBd-95WOLXcpzu7_tMtxY9q4WN2Nn1iulAZ44qmXq_9eawbh_j0NW_q-N47Tb52UTdcKzKFXO2z0xqzZO7AWbFClMNDkF6iAYaQhxgf9dHonUJFvxcDlgbPISsFqYKQwouacLm4nG4KnU5g64_TcOqNwR9kN85SUvxqA7fGX34wos5py7jt_Jv_MP-Ci5PmT59Qm973j6lIfuctTogb0wa82Sp8VF2nto1h3g7HvgZEODlzND92lXpUNEmQwz4RcfwIjTqGzcwhWi3-h80QEC2is5x58n0mu0N1M7uC4MMqwyPNto28DyZ2pH0n0g5t7AVWYtGrzJ8oF5g_HQWiHEpVAPc_4ittIF-iSjWS5u2n_keNEBmiUelF6_0iOqL6lzh4-yFQkmbGkUdyjbToWiosvcBte13_XzPP7zP-PAV2ree0DLt_c-d-R7C6ViSNKE1QiylBKBXFPw3AfuOjluRUrLERYIUVYL0AuIweVw2ZjsTPje6FgI-EpNMZBry--c1g57_bXbQViiLyUQWJZ9xdb3uz16v2k-YrJbVCfW9TTkCWA1zWC1CMXnDyA6LHwbS5xR_C53VaVchJdGhE8LU5Lc2spE01CNy0xBbGFzT6bpny81rbuY4HKt13sMxxETjr8YmT0T6KDzDPNMgF8P1rGSGgI27uVsJWGTI9fiFg5765HWJ4xbToZcAUA4p73YMQ-b7FgFn_Icv2t-dJSbI47trWGw7H8LCLCY_kouKhc8KJ6LZ-mMXhU9PeQzHcYczPTyizB_S6r624UiTg9J-Al_YDLboIvhr0KJWkzOyKGLrRI0pdpPk6RzWuXnjfcJCTgOeqDoFZ8wRxsp76aVqbUdsbqFn0lorlLZoZ-fE9uWqgUpiow_gueuU8TUou8EmLayYRmdyG236GMU6ZpxTVl3WGb1DAqw_2YALEVRoBVqC7B4I1o5iZxyQuf8M_4Ccfs_jdMuw_u" class="x1i10hfl xjbqb8w x1ejq31n xd10rxx x1sy0etr x17r0tee x972fbf xcfux6l x1qhh985 xm0m39n x9f619 x1ypdohk xt0psk2 xe8uvvx xdj266r x11i5rnm xat24cr x1mh8g0r xexx8yu x4uap5 x18d9i69 xkhd6sd x16tdsg8 x1hl2dhg xggy1nq x1a2a7pz x1sur9pj xkrqix3 x1fey0fg x1s688f" href="http://tbr.edu/RSVP/TCATS?fbclid=IwZXh0bgNhZW0CMTAAAR2XX-pAUAoDBbdGw5RLhcf4-5rmijCI2AiGu39F00Dim2TyjjW9-a8m0E8_aem_RQQQePIYT1z2kuYVSRw_Og" rel="nofollow noreferrer" role="link" style="color: var(--blue-link)\; cursor: pointer\; text-decoration-line: none\; list-style: none\; margin: 0px\; text-align: inherit\; border-style: none\; padding: 0px\; box-sizing: border-box\; border-width: 0px\; outline: none\; -webkit-tap-highlight-color: transparent\; font-weight: 600\; touch-action: manipulation\; background-color: transparent\; display: inline\; font-family: inherit\;" tabindex="0" target="_blank">TBR.EDU/RSVP/TCATS</a></span></span></strong>
LOCATION:5230 Hwy 218 Bypass\, Paris\, TN 38242
UID:e.3304.44
SEQUENCE:3
DTSTAMP:20260421T124427Z
URL:https://business.paristnchamber.com/events/details/tcat-groundbreaking-ceremony-12-pm-44
END:VEVENT

END:VCALENDAR
