BEGIN:VCALENDAR
VERSION:2.0
PRODID:-//ChamberMaster//Event Calendar 2.0//EN
METHOD:PUBLISH
X-PUBLISHED-TTL:P3D
REFRESH-INTERVAL:P3D
CALSCALE:GREGORIAN
BEGIN:VEVENT
DTSTART:20241222T200000Z
DTEND:20241222T220000Z
X-MICROSOFT-CDO-ALLDAYEVENT:FALSE
SUMMARY:Santa At His House Downtown
DESCRIPTION:
X-ALT-DESC;FMTTYPE=text/html:
LOCATION:
UID:e.3304.42
SEQUENCE:3
DTSTAMP:20260421T123455Z
URL:https://business.paristnchamber.com/events/details/santa-at-his-house-downtown-12-22-2024-42
END:VEVENT

END:VCALENDAR
