BEGIN:VCALENDAR
VERSION:2.0
PRODID:-//ChamberMaster//Event Calendar 2.0//EN
METHOD:PUBLISH
X-PUBLISHED-TTL:P3D
REFRESH-INTERVAL:P3D
CALSCALE:GREGORIAN
BEGIN:VEVENT
DTSTART:20241215T200000Z
DTEND:20241215T220000Z
X-MICROSOFT-CDO-ALLDAYEVENT:FALSE
SUMMARY:Santa At His House Downtown
DESCRIPTION:
X-ALT-DESC;FMTTYPE=text/html:
LOCATION:
UID:e.3304.41
SEQUENCE:3
DTSTAMP:20260421T123403Z
URL:https://business.paristnchamber.com/events/details/santa-at-his-house-downtown-12-15-2024-41
END:VEVENT

END:VCALENDAR
