BEGIN:VCALENDAR
VERSION:2.0
PRODID:-//ChamberMaster//Event Calendar 2.0//EN
METHOD:PUBLISH
X-PUBLISHED-TTL:P3D
REFRESH-INTERVAL:P3D
CALSCALE:GREGORIAN
BEGIN:VEVENT
DTSTART:20250129T190000Z
DTEND:20250129T200000Z
X-MICROSOFT-CDO-ALLDAYEVENT:FALSE
SUMMARY:Mommy & Me: Music & Play for 3's & 4's 1PM
DESCRIPTION:Mommy & Me:  Music & Play for 3's & 4's\n\n \n\nJoin us at Paris Civic Center for Mommy & Me on Wednesday afternoons\, beginning January 15 at 1 PM\, for our first six-week unit\, "Ants in my Pants." Led by Paris Parks & Recreation Program Coordinator Alex Hassell\, each session explores a new animal with a theme song\, music\, games and a craft.  \n\n \n\nThemes in this unit are: 1. Ants in my Pants\; 2. Curl Up Like a Cat\; 3. Hop Like a Bunny\; 4. Busy as a Mouse\; 5: The MANE Man\; and 6. Leap\, Frog!\n\n \n\nA parent or responsible adult must attend and participate in all sessions with the child. Each session will last from 45 to 60 minutes as needed to complete the week's activities.  Wear comfy clothes and plan on loads of fun!\n\n \n\nClass size is limited to 12.  Register at Paris.RecDesk.com today.  The cost is $30.
X-ALT-DESC;FMTTYPE=text/html:<div style="color: rgb(34\, 34\, 34)\; font-family: Arial\, Helvetica\, sans-serif\; font-size: small\;"><b><u><span class="il">Mommy</span>&nbsp\;&amp\; Me:&nbsp\; Music &amp\; Play for 3&#39\;s &amp\; 4&#39\;s</u></b></div>\n\n<div style="color: rgb(34\, 34\, 34)\; font-family: Arial\, Helvetica\, sans-serif\; font-size: small\;">&nbsp\;</div>\n\n<div style="color: rgb(34\, 34\, 34)\; font-family: Arial\, Helvetica\, sans-serif\; font-size: small\;">Join us at Paris&nbsp\;Civic Center for&nbsp\;<span class="il">Mommy</span>&nbsp\;&amp\; Me on Wednesday afternoons\, beginning January 15 at 1 PM\, for our first six-week unit\, &quot\;Ants in my Pants.&quot\; Led by Paris Parks &amp\; Recreation Program Coordinator Alex Hassell\, each session explores a new animal with a theme song\, music\, games and a craft.&nbsp\;&nbsp\;</div>\n\n<div style="color: rgb(34\, 34\, 34)\; font-family: Arial\, Helvetica\, sans-serif\; font-size: small\;">&nbsp\;</div>\n\n<div style="color: rgb(34\, 34\, 34)\; font-family: Arial\, Helvetica\, sans-serif\; font-size: small\;">Themes in this unit are: 1. Ants in my Pants\; 2. Curl Up Like a Cat\; 3. Hop Like a Bunny\; 4. Busy as a Mouse\; 5: The MANE Man\; and 6. Leap\, Frog!</div>\n\n<div style="color: rgb(34\, 34\, 34)\; font-family: Arial\, Helvetica\, sans-serif\; font-size: small\;">&nbsp\;</div>\n\n<div style="color: rgb(34\, 34\, 34)\; font-family: Arial\, Helvetica\, sans-serif\; font-size: small\;">A parent or responsible adult must attend and participate in all sessions with the child. Each session will last from 45 to 60 minutes as needed to complete the week&#39\;s activities.&nbsp\; Wear comfy clothes and plan on loads&nbsp\;of fun!</div>\n\n<div style="color: rgb(34\, 34\, 34)\; font-family: Arial\, Helvetica\, sans-serif\; font-size: small\;">&nbsp\;</div>\n\n<div style="color: rgb(34\, 34\, 34)\; font-family: Arial\, Helvetica\, sans-serif\; font-size: small\;">Class size is limited to 12.&nbsp\; Register at&nbsp\;<a data-saferedirecturl="https://www.google.com/url?q=http://Paris.RecDesk.com&amp\;source=gmail&amp\;ust=1735934266589000&amp\;usg=AOvVaw3MZtqUnC8PIslLuqFXDU0C" href="http://paris.recdesk.com/" style="color: rgb(17\, 85\, 204)\;" target="_blank">Paris.RecDesk.com</a>&nbsp\;today.&nbsp\; The cost is $30.&nbsp\;&nbsp\;</div>\n
LOCATION:
UID:e.3304.111
SEQUENCE:3
DTSTAMP:20260421T090207Z
URL:https://business.paristnchamber.com/events/details/mommy-me-music-play-for-3-s-4-s-1pm-01-29-2025-111
END:VEVENT

END:VCALENDAR
