BEGIN:VCALENDAR
VERSION:2.0
PRODID:-//ChamberMaster//Event Calendar 2.0//EN
METHOD:PUBLISH
X-PUBLISHED-TTL:P3D
REFRESH-INTERVAL:P3D
CALSCALE:GREGORIAN
BEGIN:VEVENT
DTSTART:20241216T180000Z
DTEND:20241216T230000Z
X-MICROSOFT-CDO-ALLDAYEVENT:FALSE
SUMMARY:LifeLine Blood Drive At Lowes 12-5PM
DESCRIPTION:12 Days of Christmas Blood Drive
X-ALT-DESC;FMTTYPE=text/html:12 Days of Christmas Blood Drive
LOCATION:117 Memorial Dr\, Paris\, TN 38242
UID:e.3304.117
SEQUENCE:3
DTSTAMP:20260421T111221Z
URL:https://business.paristnchamber.com/events/details/lifeline-blood-drive-at-lowes-12-5pm-117
END:VEVENT

END:VCALENDAR
