BEGIN:VCALENDAR
VERSION:2.0
PRODID:-//ChamberMaster//Event Calendar 2.0//EN
METHOD:PUBLISH
X-PUBLISHED-TTL:P3D
REFRESH-INTERVAL:P3D
CALSCALE:GREGORIAN
BEGIN:VEVENT
DTSTART:20260314T000000Z
DTEND:20260314T014000Z
X-MICROSOFT-CDO-ALLDAYEVENT:FALSE
SUMMARY:L. M. Montgomery's "Anne of Green Gables"
DESCRIPTION:Genesis Homeschool Group's Theatre Program presents "Anne of Green Gables" at Krider Performing Arts Center. Come see this classic American Novel in a youth theatre stage production.
X-ALT-DESC;FMTTYPE=text/html:Genesis Homeschool Group&#39\;s Theatre Program presents &quot\;Anne of Green Gables&quot\; at Krider Performing Arts Center. Come see this classic American Novel in a youth theatre stage production.
LOCATION:Krider Performing Arts Center 650 Volunteer Drive Paris\, TN 38242
UID:e.3304.516
SEQUENCE:3
DTSTAMP:20260421T092735Z
URL:https://business.paristnchamber.com/events/details/l-m-montgomery-s-anne-of-green-gables-03-13-2026-516
END:VEVENT

END:VCALENDAR
