BEGIN:VCALENDAR
VERSION:2.0
PRODID:-//ChamberMaster//Event Calendar 2.0//EN
METHOD:PUBLISH
X-PUBLISHED-TTL:P3D
REFRESH-INTERVAL:P3D
CALSCALE:GREGORIAN
BEGIN:VEVENT
DTSTART:20241204T193000Z
DTEND:20241204T203000Z
X-MICROSOFT-CDO-ALLDAYEVENT:FALSE
SUMMARY:Gentiva Hospice Grand Opening 1:30 PM
DESCRIPTION:
X-ALT-DESC;FMTTYPE=text/html:
LOCATION:1101 East Wood Street\, Paris\, TN 38242
UID:e.3304.108
SEQUENCE:3
DTSTAMP:20260421T104833Z
URL:https://business.paristnchamber.com/events/details/gentiva-hospice-grand-opening-1-30-pm-108
END:VEVENT

END:VCALENDAR
