BEGIN:VCALENDAR
VERSION:2.0
PRODID:-//ChamberMaster//Event Calendar 2.0//EN
METHOD:PUBLISH
X-PUBLISHED-TTL:P3D
REFRESH-INTERVAL:P3D
CALSCALE:GREGORIAN
BEGIN:VEVENT
DTSTART:20241207T160000Z
DTEND:20241207T200000Z
X-MICROSOFT-CDO-ALLDAYEVENT:FALSE
SUMMARY:Festival of Trees 10 AM-2 PM
DESCRIPTION:
X-ALT-DESC;FMTTYPE=text/html:
LOCATION:110 W Washington St\, Paris\, TN
UID:e.3304.102
SEQUENCE:3
DTSTAMP:20260421T111447Z
URL:https://business.paristnchamber.com/events/details/festival-of-trees-10-am-2-pm-12-07-2024-102
END:VEVENT

END:VCALENDAR
