BEGIN:VCALENDAR
VERSION:2.0
PRODID:-//ChamberMaster//Event Calendar 2.0//EN
METHOD:PUBLISH
X-PUBLISHED-TTL:P3D
REFRESH-INTERVAL:P3D
CALSCALE:GREGORIAN
BEGIN:VEVENT
DTSTART:20241109T150000Z
DTEND:20241109T230000Z
X-MICROSOFT-CDO-ALLDAYEVENT:FALSE
SUMMARY:Christmas in Paris: Shopping Extravaganza
DESCRIPTION:Come out to the Paris Convention Center and the Henry County Fairgrounds and support 100+ local businesses at this 2 day\, 2 location shopping event!
X-ALT-DESC;FMTTYPE=text/html:<span style="font-size:11px\;"><span style="color: rgb(5\, 5\, 5)\; font-family: system-ui\, -apple-system\, &quot\;system-ui&quot\;\, &quot\;.SFNSText-Regular&quot\;\, sans-serif\; text-align: center\;">Come out to the Paris Convention Center and the Henry County Fairgrounds and support 100+ local businesses at this 2 day\, 2 location shopping event!</span></span>
LOCATION:
UID:e.3304.49
SEQUENCE:3
DTSTAMP:20260421T124601Z
URL:https://business.paristnchamber.com/events/details/christmas-in-paris-shopping-extravaganza-49
END:VEVENT

END:VCALENDAR
