BEGIN:VCALENDAR
VERSION:2.0
PRODID:-//ChamberMaster//Event Calendar 2.0//EN
METHOD:PUBLISH
X-PUBLISHED-TTL:P3D
REFRESH-INTERVAL:P3D
CALSCALE:GREGORIAN
BEGIN:VEVENT
DTSTART:20241221T180000Z
DTEND:20241221T210000Z
X-MICROSOFT-CDO-ALLDAYEVENT:FALSE
SUMMARY:AmVets Post 45 Buchanan Kids Christmas Party 12-3 PM
DESCRIPTION:
X-ALT-DESC;FMTTYPE=text/html:
LOCATION:14365 Highway 79 N\, Buchanan\, TN\, United States\, Tennessee
UID:e.3304.126
SEQUENCE:3
DTSTAMP:20260421T104948Z
URL:https://business.paristnchamber.com/events/details/amvets-post-45-buchanan-kids-christmas-party-12-3-pm-126
END:VEVENT

END:VCALENDAR
