BEGIN:VCALENDAR
VERSION:2.0
PRODID:-//ChamberMaster//Event Calendar 2.0//EN
METHOD:PUBLISH
X-PUBLISHED-TTL:P3D
REFRESH-INTERVAL:P3D
CALSCALE:GREGORIAN
BEGIN:VEVENT
DTSTART:20241102T140000Z
DTEND:20241102T200000Z
X-MICROSOFT-CDO-ALLDAYEVENT:FALSE
SUMMARY:Academy Art Market
DESCRIPTION:
X-ALT-DESC;FMTTYPE=text/html:
LOCATION:
UID:e.3304.25
SEQUENCE:3
DTSTAMP:20260421T124512Z
URL:https://business.paristnchamber.com/events/details/academy-art-market-25
END:VEVENT

END:VCALENDAR
