BEGIN:VCALENDAR
VERSION:2.0
PRODID:-//ChamberMaster//Event Calendar 2.0//EN
METHOD:PUBLISH
X-PUBLISHED-TTL:P3D
REFRESH-INTERVAL:P3D
CALSCALE:GREGORIAN
BEGIN:VEVENT
DTSTART:20241206T160000Z
DTEND:20241206T170000Z
X-MICROSOFT-CDO-ALLDAYEVENT:FALSE
SUMMARY:AC's Diner Ribbon Cutting 10 AM
DESCRIPTION:
X-ALT-DESC;FMTTYPE=text/html:
LOCATION:1055 Mineral Wells Ave Ste. #10\, Paris\, TN
UID:e.3304.107
SEQUENCE:3
DTSTAMP:20260421T110948Z
URL:https://business.paristnchamber.com/events/details/ac-s-diner-ribbon-cutting-10-am-107
END:VEVENT

END:VCALENDAR
